BEGIN:VCALENDAR
VERSION:2.0
PRODID:-//ChamberMaster//Event Calendar 2.0//EN
METHOD:PUBLISH
X-PUBLISHED-TTL:P3D
REFRESH-INTERVAL:P3D
CALSCALE:GREGORIAN
BEGIN:VEVENT
DTSTART:20180314T120000Z
DTEND:20180314T140000Z
X-MICROSOFT-CDO-ALLDAYEVENT:FALSE
SUMMARY:2018 Tourism Partners Breakfast
DESCRIPTION:Tourism Partners Breakfast\n\n\n\nSpecial Guest: Mathew MacLaren\, New Director Tourism Ohio\n\nGuest Speaker: Karen Eylon\, Ohio Travel Association
X-ALT-DESC;FMTTYPE=text/html:Tourism Partners Breakfast<br />\n<br />\nSpecial Guest: Mathew MacLaren\, New Director Tourism Ohio<br />\nGuest Speaker: Karen Eylon\, Ohio Travel Association
LOCATION:Dalton Union Winery 21100 Shirk Rd Marysville\, OH 43040
UID:e.1767.10672
SEQUENCE:3
DTSTAMP:20260426T000018Z
URL:https://chambermaster.unioncounty.org/events/details/2018-tourism-partners-breakfast-10672
END:VEVENT

END:VCALENDAR
