BEGIN:VCALENDAR
VERSION:2.0
PRODID:-//ChamberMaster//Event Calendar 2.0//EN
METHOD:PUBLISH
X-PUBLISHED-TTL:P3D
REFRESH-INTERVAL:P3D
CALSCALE:GREGORIAN
BEGIN:VEVENT
DTSTART:20180524T153000Z
DTEND:20180524T170000Z
X-MICROSOFT-CDO-ALLDAYEVENT:FALSE
SUMMARY:2018 Salute to Leaders
DESCRIPTION:Salute to Leaders Luncheon
X-ALT-DESC;FMTTYPE=text/html:Salute to Leaders Luncheon
LOCATION:Der Dutchman Restaurant
UID:e.1767.12708
SEQUENCE:3
DTSTAMP:20260425T221220Z
URL:https://chambermaster.unioncounty.org/events/details/2018-salute-to-leaders-12708
END:VEVENT

END:VCALENDAR
