BEGIN:VCALENDAR
VERSION:2.0
PRODID:-//ChamberMaster//Event Calendar 2.0//EN
METHOD:PUBLISH
X-PUBLISHED-TTL:P3D
REFRESH-INTERVAL:P3D
CALSCALE:GREGORIAN
BEGIN:VEVENT
DTSTART:20180421T210000Z
DTEND:20180421T210000Z
X-MICROSOFT-CDO-ALLDAYEVENT:FALSE
SUMMARY:2018 Rock the Run 5k & 10k
DESCRIPTION:
X-ALT-DESC;FMTTYPE=text/html:
LOCATION:Jim Simmons Trail Marysville
UID:e.1767.10668
SEQUENCE:3
DTSTAMP:20260425T221220Z
URL:https://chambermaster.unioncounty.org/events/details/2018-rock-the-run-5k-10k-10668
END:VEVENT

END:VCALENDAR
