BEGIN:VCALENDAR
VERSION:2.0
PRODID:-//ChamberMaster//Event Calendar 2.0//EN
METHOD:PUBLISH
X-PUBLISHED-TTL:P3D
REFRESH-INTERVAL:P3D
CALSCALE:GREGORIAN
BEGIN:VEVENT
DTSTART:20180630T210000Z
DTEND:20180701T030000Z
X-MICROSOFT-CDO-ALLDAYEVENT:FALSE
SUMMARY:2018 Richwood Rock the Clock
DESCRIPTION:Come enjoy live music\, good food\, and cold beer with your friends and family. Performances include The Groove opening for The Reaganomics. \n\n\n\nProceeds do to IMPACT60
X-ALT-DESC;FMTTYPE=text/html:Come enjoy live music\, good food\, and cold beer with your friends and family. Performances include The Groove opening for The Reaganomics.&nbsp\;<br />\n<br />\nProceeds do to IMPACT60
LOCATION:Downtown Richwood
UID:e.1767.12718
SEQUENCE:3
DTSTAMP:20260425T202924Z
URL:https://chambermaster.unioncounty.org/events/details/2018-richwood-rock-the-clock-12718
END:VEVENT

END:VCALENDAR
