BEGIN:VCALENDAR
VERSION:2.0
PRODID:-//ChamberMaster//Event Calendar 2.0//EN
METHOD:PUBLISH
X-PUBLISHED-TTL:P3D
REFRESH-INTERVAL:P3D
CALSCALE:GREGORIAN
BEGIN:VEVENT
DTSTART:20180721T210000Z
DTEND:20180722T030000Z
X-MICROSOFT-CDO-ALLDAYEVENT:FALSE
SUMMARY:2018 Plain City Rock the Clock
DESCRIPTION:Come enjoy live music\, good food\, and cold beer. The Menus will be closing the 3 day Plain City Bicentennial Celebration Weekend with a performance.\n\n\n\nAll proceeds are going to the IMPACT60
X-ALT-DESC;FMTTYPE=text/html:Come enjoy live music\, good food\, and cold beer. The Menus will be closing the 3 day Plain City Bicentennial Celebration Weekend with a performance.<br />\n<br />\nAll proceeds are going to the IMPACT60
LOCATION:Downtown Plain City
UID:e.1767.12719
SEQUENCE:3
DTSTAMP:20260425T165944Z
URL:https://chambermaster.unioncounty.org/events/details/2018-plain-city-rock-the-clock-12719
END:VEVENT

END:VCALENDAR
