BEGIN:VCALENDAR
VERSION:2.0
PRODID:-//ChamberMaster//Event Calendar 2.0//EN
METHOD:PUBLISH
X-PUBLISHED-TTL:P3D
REFRESH-INTERVAL:P3D
CALSCALE:GREGORIAN
BEGIN:VEVENT
DTSTART:20180610T000000Z
DTEND:20180610T000000Z
X-MICROSOFT-CDO-ALLDAYEVENT:FALSE
SUMMARY:2018 Marysville Neon Glow Run
DESCRIPTION:2018 Marysville Neon Glow Run\n\n\n\nA fundraiser for the Marysville High School Track & Field teams\, and a portion of the proceeds will be donated to the Marysville Schools Special Olympics Track & Field teams.
X-ALT-DESC;FMTTYPE=text/html:2018 Marysville Neon Glow Run<br />\n<br />\nA fundraiser for the Marysville High School Track &amp\; Field teams\, and a portion of the proceeds will be donated to the Marysville Schools Special Olympics Track &amp\; Field teams.&nbsp\;
LOCATION:Race starts at the Marysville High School Stadium\, then connects to the Jim Simmons Trail. The race will finish back at the High School.
UID:e.1767.10669
SEQUENCE:3
DTSTAMP:20260425T185104Z
URL:https://chambermaster.unioncounty.org/events/details/2018-marysville-neon-glow-run-10669
END:VEVENT

END:VCALENDAR
