BEGIN:VCALENDAR
VERSION:2.0
PRODID:-//ChamberMaster//Event Calendar 2.0//EN
METHOD:PUBLISH
X-PUBLISHED-TTL:P3D
REFRESH-INTERVAL:P3D
CALSCALE:GREGORIAN
BEGIN:VEVENT
DTSTART:20180921T210000Z
DTEND:20180922T000000Z
X-MICROSOFT-CDO-ALLDAYEVENT:FALSE
SUMMARY:2018 Dinner on the Bridge
DESCRIPTION:Dinner on the Pottersburg Bridge\n\nPlease call 937-642-6279 for Tickets
X-ALT-DESC;FMTTYPE=text/html:&nbsp\;Dinner on the Pottersburg Bridge<br />\n<span style="color:#FF0000\;">Please call 937-642-6279 for Tickets</span>
LOCATION:17141 Inskeep-Cratty Rd. North Lewisburg\, OH 43060
UID:e.1767.12705
SEQUENCE:3
DTSTAMP:20260425T132925Z
URL:https://chambermaster.unioncounty.org/events/details/2018-dinner-on-the-bridge-12705
END:VEVENT

END:VCALENDAR
