BEGIN:VCALENDAR
VERSION:2.0
PRODID:-//ChamberMaster//Event Calendar 2.0//EN
METHOD:PUBLISH
X-PUBLISHED-TTL:P3D
REFRESH-INTERVAL:P3D
CALSCALE:GREGORIAN
BEGIN:VEVENT
DTSTART;VALUE=DATE:20180922
DTEND;VALUE=DATE:20180924
TRANSP:TRANSPARENT
X-MICROSOFT-CDO-ALLDAYEVENT:TRUE
SUMMARY:2018 Covered Bridge Festival
DESCRIPTION:11th Anniversary Union County Covered Bridge Bluegrass Festival
X-ALT-DESC;FMTTYPE=text/html:11th&nbsp\;Anniversary Union County Covered Bridge Bluegrass Festival&nbsp\; &nbsp\;&nbsp\;
LOCATION:at the Pottersburg Bridge 17141 Inskeep-Cratty Rd.\, N. Lewisburg\, OH 43060
UID:e.1767.12707
SEQUENCE:3
DTSTAMP:20260425T133201Z
URL:https://chambermaster.unioncounty.org/events/details/2018-covered-bridge-festival-12707
END:VEVENT

END:VCALENDAR
