BEGIN:VCALENDAR
VERSION:2.0
PRODID:-//ChamberMaster//Event Calendar 2.0//EN
METHOD:PUBLISH
X-PUBLISHED-TTL:P3D
REFRESH-INTERVAL:P3D
CALSCALE:GREGORIAN
BEGIN:VEVENT
DTSTART:20180226T213000Z
DTEND:20180227T000000Z
X-MICROSOFT-CDO-ALLDAYEVENT:FALSE
SUMMARY:2018 Chamber Business Expo & After Hours
DESCRIPTION:Chamber Business Expo & After Hours\n\nFive (5) Chambers Participating: Union County\, Dublin\, Hilliard\, Powell & Westerville\n\n\n\nNetworking\, Food & Door Prizes!
X-ALT-DESC;FMTTYPE=text/html:Chamber Business Expo &amp\; After Hours<br />\nFive (5) Chambers Participating: Union County\, Dublin\, Hilliard\, Powell &amp\; Westerville<br />\n<br />\nNetworking\, Food &amp\; Door Prizes!<br />\n&nbsp\;
LOCATION:The Exchange at Bridge Park 6520 Riverside Drive Dublin\, OH 43017
UID:e.1767.10525
SEQUENCE:3
DTSTAMP:20260426T014726Z
URL:https://chambermaster.unioncounty.org/events/details/2018-chamber-business-expo-after-hours-10525
END:VEVENT

END:VCALENDAR
