BEGIN:VCALENDAR
VERSION:2.0
PRODID:-//ChamberMaster//Event Calendar 2.0//EN
METHOD:PUBLISH
X-PUBLISHED-TTL:P3D
REFRESH-INTERVAL:P3D
CALSCALE:GREGORIAN
BEGIN:VEVENT
DTSTART;VALUE=DATE:20180803
DTEND;VALUE=DATE:20180804
TRANSP:TRANSPARENT
X-MICROSOFT-CDO-ALLDAYEVENT:TRUE
SUMMARY:2018 Annual Golf Tournament
DESCRIPTION:2018 Annual Chamber Golf Tournament\n\n\n\nGolf Brochure - Registration and Sponsorship
X-ALT-DESC;FMTTYPE=text/html:2018 Annual Chamber Golf Tournament<br />\n<br />\n<a href="http://unioncounty.org/wp-content/uploads/2018/06/Golf-Invitation-2018-WITH-LOGO.pdf">Golf Brochure - Registration and Sponsorship</a>
LOCATION:Darby Creek Golf Course 19300 Orchard Rd Marysville\, OH 43040
UID:e.1767.12715
SEQUENCE:3
DTSTAMP:20260425T152930Z
URL:https://chambermaster.unioncounty.org/events/details/2018-annual-golf-tournament-12715
END:VEVENT

END:VCALENDAR
