BEGIN:VCALENDAR
VERSION:2.0
PRODID:-//ChamberMaster//Event Calendar 2.0//EN
METHOD:PUBLISH
X-PUBLISHED-TTL:P3D
REFRESH-INTERVAL:P3D
CALSCALE:GREGORIAN
BEGIN:VEVENT
DTSTART:20180419T210000Z
DTEND:20180420T000000Z
X-MICROSOFT-CDO-ALLDAYEVENT:FALSE
SUMMARY:2018 Annual Celebration
DESCRIPTION:Union County Chamber of Commerce\n\nAnnual Celebration\n\nCelebrating Diversity of Agriculture in Union County\n\n\n\n\n\nBusiness Expo\, Networking\, Food Stations\n\n\n\nSponsor\, Expo\, & Silent Auction Forms
X-ALT-DESC;FMTTYPE=text/html:<strong>Union County Chamber of Commerce<br />\nAnnual Celebration<br />\nCelebrating Diversity of Agriculture in Union County</strong><br />\n<br />\n<br />\nBusiness Expo\, Networking\, Food Stations<br />\n<br />\n<a href="https://chambermaster.blob.core.windows.net/userfiles/UserFiles/chambers/1767/File/2018AnnualFormsPacket.pdf"><span style="font-size:16px\;"><strong>Sponsor\, Expo\, &amp\; Silent Auction Forms</strong></span></a>
LOCATION:Evolution Ag 13275 US Rt 42 Plain City\, OH 43064
UID:e.1767.10686
SEQUENCE:3
DTSTAMP:20260422T090231Z
URL:https://chambermaster.unioncounty.org/events/details/2018-annual-celebration-10686
END:VEVENT

END:VCALENDAR
